BEGIN:VCALENDAR
VERSION:2.0
PRODID:-//La Pratique, AFA de l&#039;Indre, Résidanses pluridisciplinaires - ECPv6.15.20//NONSGML v1.0//EN
CALSCALE:GREGORIAN
METHOD:PUBLISH
X-WR-CALNAME:La Pratique, AFA de l&#039;Indre, Résidanses pluridisciplinaires
X-ORIGINAL-URL:https://lapratique.org
X-WR-CALDESC:Évènements pour La Pratique, AFA de l&#039;Indre, Résidanses pluridisciplinaires
REFRESH-INTERVAL;VALUE=DURATION:PT1H
X-Robots-Tag:noindex
X-PUBLISHED-TTL:PT1H
BEGIN:VTIMEZONE
TZID:Europe/Paris
BEGIN:DAYLIGHT
TZOFFSETFROM:+0100
TZOFFSETTO:+0200
TZNAME:CEST
DTSTART:20240331T010000
END:DAYLIGHT
BEGIN:STANDARD
TZOFFSETFROM:+0200
TZOFFSETTO:+0100
TZNAME:CET
DTSTART:20241027T010000
END:STANDARD
BEGIN:DAYLIGHT
TZOFFSETFROM:+0100
TZOFFSETTO:+0200
TZNAME:CEST
DTSTART:20250330T010000
END:DAYLIGHT
BEGIN:STANDARD
TZOFFSETFROM:+0200
TZOFFSETTO:+0100
TZNAME:CET
DTSTART:20251026T010000
END:STANDARD
BEGIN:DAYLIGHT
TZOFFSETFROM:+0100
TZOFFSETTO:+0200
TZNAME:CEST
DTSTART:20260329T010000
END:DAYLIGHT
BEGIN:STANDARD
TZOFFSETFROM:+0200
TZOFFSETTO:+0100
TZNAME:CET
DTSTART:20261025T010000
END:STANDARD
END:VTIMEZONE
BEGIN:VEVENT
DTSTART;TZID=Europe/Paris:20250331T090000
DTEND;TZID=Europe/Paris:20250404T170000
DTSTAMP:20260420T123606
CREATED:20250325T144634Z
LAST-MODIFIED:20250325T144634Z
UID:11462-1743411600-1743786000@lapratique.org
SUMMARY:AFTER CHURCH - BASSEY & THE GOSPEL TEAM
DESCRIPTION:
URL:https://lapratique.org/evenement/after-church-bassey-the-gospel-team/
LOCATION:La Pratique\, 1 place Pillain\, Vatan\, 36150
CATEGORIES:Résidence de création
ATTACH;FMTTYPE=image/jpeg:https://lapratique.org/wp-content/uploads/2025/03/Credit_Max_of-Pics-2048x1259-1.jpg
ORGANIZER;CN="La Pratique Vatan":MAILTO:info.lapratique@gmail.com
END:VEVENT
BEGIN:VEVENT
DTSTART;TZID=Europe/Paris:20250402T143000
DTEND;TZID=Europe/Paris:20250402T153000
DTSTAMP:20260420T123606
CREATED:20250107T093654Z
LAST-MODIFIED:20250107T093654Z
UID:11356-1743604200-1743607800@lapratique.org
SUMMARY:Visite guidée des coulisses de La Pratique et de Bassey & The Gospel Team
DESCRIPTION:Départ à l’Office de Tourisme de Vatan \nAdresse : Place de la République\, sous la halle\, Vatan \n 
URL:https://lapratique.org/evenement/visite-guidee-des-coulisses-de-la-pratique-et-de-bassey-the-gospel-team/
LOCATION:office de tourisme de vatan\, place de la République\, Vatan\, 36150\, France
ATTACH;FMTTYPE=image/jpeg:https://lapratique.org/wp-content/uploads/2025/01/Capture-decran-2025-01-07-103510.jpg
ORGANIZER;CN="La Pratique Vatan":MAILTO:info.lapratique@gmail.com
END:VEVENT
BEGIN:VEVENT
DTSTART;TZID=Europe/Paris:20250404T190000
DTEND;TZID=Europe/Paris:20250404T203000
DTSTAMP:20260420T123606
CREATED:20250107T085019Z
LAST-MODIFIED:20250107T085019Z
UID:10938-1743793200-1743798600@lapratique.org
SUMMARY:Bassey & The Gospel Team
DESCRIPTION:
URL:https://lapratique.org/evenement/bassey-the-gospel-team/
LOCATION:La Pratique\, 1 place Pillain\, Vatan\, 36150
CATEGORIES:Musique
ATTACH;FMTTYPE=image/jpeg:https://lapratique.org/wp-content/uploads/2024/06/Credit_Max_of-Pics-scaled.jpg
ORGANIZER;CN="La Pratique Vatan":MAILTO:info.lapratique@gmail.com
END:VEVENT
BEGIN:VEVENT
DTSTART;TZID=Europe/Paris:20250414T090000
DTEND;TZID=Europe/Paris:20250418T120000
DTSTAMP:20260420T123606
CREATED:20250326T142607Z
LAST-MODIFIED:20250326T144748Z
UID:11483-1744621200-1744977600@lapratique.org
SUMMARY:STAGE DE DANSE AFRICAINE 8-18 ans
DESCRIPTION:
URL:https://lapratique.org/evenement/stage-de-danse-africaine-8-18-ans/
LOCATION:Salle des fêtes de Vatan\, 25 bis Rue Ferdinand De Lesseps\, 36150 Vatan
CATEGORIES:Danse
ATTACH;FMTTYPE=image/jpeg:https://lapratique.org/wp-content/uploads/2025/03/DANSE-AFRICAINE-1.jpg
ORGANIZER;CN="La Pratique Vatan":MAILTO:info.lapratique@gmail.com
END:VEVENT
BEGIN:VEVENT
DTSTART;TZID=Europe/Paris:20250414T090000
DTEND;TZID=Europe/Paris:20250425T170000
DTSTAMP:20260420T123606
CREATED:20250325T145059Z
LAST-MODIFIED:20250325T145059Z
UID:11467-1744621200-1745600400@lapratique.org
SUMMARY:NOUS AVONS APPRIS À TENIR DEBOUT CIE STRATES
DESCRIPTION:
URL:https://lapratique.org/evenement/nous-avons-appris-a-tenir-debout-cie-strates-2/
LOCATION:La Pratique\, 1 place Pillain\, Vatan\, 36150
CATEGORIES:Résidence de création
ATTACH;FMTTYPE=image/jpeg:https://lapratique.org/wp-content/uploads/2025/03/unnamed-scaled.jpg
ORGANIZER;CN="La Pratique Vatan":MAILTO:info.lapratique@gmail.com
END:VEVENT
BEGIN:VEVENT
DTSTART;TZID=Europe/Paris:20250425T190000
DTEND;TZID=Europe/Paris:20250425T203000
DTSTAMP:20260420T123606
CREATED:20250107T094846Z
LAST-MODIFIED:20250107T095141Z
UID:11364-1745607600-1745613000@lapratique.org
SUMMARY:Nous avons appris à tenir debout / Cie Strates
DESCRIPTION:
URL:https://lapratique.org/evenement/nous-avons-appris-a-tenir-debout-cie-strates/
LOCATION:La Pratique\, 1 place Pillain\, Vatan\, 36150
CATEGORIES:Danse
ATTACH;FMTTYPE=image/jpeg:https://lapratique.org/wp-content/uploads/2024/06/©-STRATES-scaled.jpg
ORGANIZER;CN="La Pratique Vatan":MAILTO:info.lapratique@gmail.com
END:VEVENT
BEGIN:VEVENT
DTSTART;TZID=Europe/Paris:20250428T090000
DTEND;TZID=Europe/Paris:20250502T170000
DTSTAMP:20260420T123606
CREATED:20250325T145716Z
LAST-MODIFIED:20250325T145726Z
UID:11470-1745830800-1746205200@lapratique.org
SUMMARY:AFFLEUREMENT ET ARASEMENT COMPAGNIE ASSEMBLE
DESCRIPTION:
URL:https://lapratique.org/evenement/affleurement-et-arasement-compagnie-assemble/
LOCATION:La Pratique\, 1 place Pillain\, Vatan\, 36150
CATEGORIES:Résidence de création
ATTACH;FMTTYPE=image/jpeg:https://lapratique.org/wp-content/uploads/2025/03/PHOTO.jpg
ORGANIZER;CN="La Pratique Vatan":MAILTO:info.lapratique@gmail.com
END:VEVENT
END:VCALENDAR