BEGIN:VCALENDAR
VERSION:2.0
PRODID:-//La Pratique, AFA de l&#039;Indre, Résidanses pluridisciplinaires - ECPv6.15.20//NONSGML v1.0//EN
CALSCALE:GREGORIAN
METHOD:PUBLISH
X-ORIGINAL-URL:https://lapratique.org
X-WR-CALDESC:Évènements pour La Pratique, AFA de l&#039;Indre, Résidanses pluridisciplinaires
REFRESH-INTERVAL;VALUE=DURATION:PT1H
X-Robots-Tag:noindex
X-PUBLISHED-TTL:PT1H
BEGIN:VTIMEZONE
TZID:Europe/Paris
BEGIN:DAYLIGHT
TZOFFSETFROM:+0100
TZOFFSETTO:+0200
TZNAME:CEST
DTSTART:20240331T010000
END:DAYLIGHT
BEGIN:STANDARD
TZOFFSETFROM:+0200
TZOFFSETTO:+0100
TZNAME:CET
DTSTART:20241027T010000
END:STANDARD
BEGIN:DAYLIGHT
TZOFFSETFROM:+0100
TZOFFSETTO:+0200
TZNAME:CEST
DTSTART:20250330T010000
END:DAYLIGHT
BEGIN:STANDARD
TZOFFSETFROM:+0200
TZOFFSETTO:+0100
TZNAME:CET
DTSTART:20251026T010000
END:STANDARD
BEGIN:DAYLIGHT
TZOFFSETFROM:+0100
TZOFFSETTO:+0200
TZNAME:CEST
DTSTART:20260329T010000
END:DAYLIGHT
BEGIN:STANDARD
TZOFFSETFROM:+0200
TZOFFSETTO:+0100
TZNAME:CET
DTSTART:20261025T010000
END:STANDARD
END:VTIMEZONE
BEGIN:VEVENT
DTSTART;TZID=Europe/Paris:20250314T170000
DTEND;TZID=Europe/Paris:20250315T170000
DTSTAMP:20260420T111244
CREATED:20250213T153323Z
LAST-MODIFIED:20250213T160038Z
UID:11426-1741971600-1742058000@lapratique.org
SUMMARY:Atelier de danse contemporaine
DESCRIPTION:Les permanences chorégraphiques itinérantes\nprojet participatif \nA partir de mars 2025\, nous inviterons des danseur·euses amateur·es de la région à suivre le travail de création de Sans crier gare. Pendant les semaines de répétitions\, qui auront lieu à La Pratique\, nous partagerons et transmettrons à ces danseur·euses amateur·trices les principes de la création de Sans crier gare (outils\, exercices\, principes de jeu\, etc.). \nPuis\, dès l’automne 2025\, ce groupe se réunira régulièrement (pendant la semaine ou le week-end\, à définir) pour continuer à pratiquer et à chercher ensemble à partir des éléments\, des principes de Sans crier gare. \nCette création questionnera avant tout notre capacité à être présent·es et à l’écoute des un·es et des autres. Une écoute extrêmement fine\, précise qui passera par l’observation des personnes\, des situations\, des émotions mais aussi par une forme de lâcher-prise\, pour ne pas être dans le jugement\, la censure ou la peur. Au printemps 2026\, ce groupe d’amateur·es accompagné par Cécile Loyer partira en tournée sur les places de villages\, de marché\, les lieux publics de la région. L’objectif avec ce groupe est de créer dans chaque lieu des danses uniques et singulières avec le public.
URL:https://lapratique.org/evenement/atelier-de-danse-contemporaine/
LOCATION:La Pratique\, 1 place Pillain\, Vatan\, 36150
ATTACH;FMTTYPE=image/jpeg:https://lapratique.org/wp-content/uploads/2025/02/Groupe-danse-amateur.jpg
ORGANIZER;CN="La Pratique Vatan":MAILTO:info.lapratique@gmail.com
END:VEVENT
BEGIN:VEVENT
DTSTART;TZID=Europe/Paris:20250314T180000
DTEND;TZID=Europe/Paris:20250315T190000
DTSTAMP:20260420T111244
CREATED:20250213T155307Z
LAST-MODIFIED:20250310T085609Z
UID:11440-1741975200-1742065200@lapratique.org
SUMMARY:Cycle d'ateliers d'écriture avec Violaine Schwartz
DESCRIPTION:
URL:https://lapratique.org/evenement/cycle-dateliers-decriture-avec-violaine-schwartz/
ATTACH;FMTTYPE=image/png:https://lapratique.org/wp-content/uploads/2025/02/Communication-PNG-Chauffoir.png
END:VEVENT
BEGIN:VEVENT
DTSTART;TZID=Europe/Paris:20250331T090000
DTEND;TZID=Europe/Paris:20250404T170000
DTSTAMP:20260420T111244
CREATED:20250325T144634Z
LAST-MODIFIED:20250325T144634Z
UID:11462-1743411600-1743786000@lapratique.org
SUMMARY:AFTER CHURCH - BASSEY & THE GOSPEL TEAM
DESCRIPTION:
URL:https://lapratique.org/evenement/after-church-bassey-the-gospel-team/
LOCATION:La Pratique\, 1 place Pillain\, Vatan\, 36150
CATEGORIES:Résidence de création
ATTACH;FMTTYPE=image/jpeg:https://lapratique.org/wp-content/uploads/2025/03/Credit_Max_of-Pics-2048x1259-1.jpg
ORGANIZER;CN="La Pratique Vatan":MAILTO:info.lapratique@gmail.com
END:VEVENT
END:VCALENDAR