BEGIN:VCALENDAR
VERSION:2.0
PRODID:-//La Pratique, AFA de l&#039;Indre, Résidanses pluridisciplinaires - ECPv6.15.20//NONSGML v1.0//EN
CALSCALE:GREGORIAN
METHOD:PUBLISH
X-ORIGINAL-URL:https://lapratique.org
X-WR-CALDESC:Évènements pour La Pratique, AFA de l&#039;Indre, Résidanses pluridisciplinaires
REFRESH-INTERVAL;VALUE=DURATION:PT1H
X-Robots-Tag:noindex
X-PUBLISHED-TTL:PT1H
BEGIN:VTIMEZONE
TZID:Europe/Paris
BEGIN:DAYLIGHT
TZOFFSETFROM:+0100
TZOFFSETTO:+0200
TZNAME:CEST
DTSTART:20230326T010000
END:DAYLIGHT
BEGIN:STANDARD
TZOFFSETFROM:+0200
TZOFFSETTO:+0100
TZNAME:CET
DTSTART:20231029T010000
END:STANDARD
BEGIN:DAYLIGHT
TZOFFSETFROM:+0100
TZOFFSETTO:+0200
TZNAME:CEST
DTSTART:20240331T010000
END:DAYLIGHT
BEGIN:STANDARD
TZOFFSETFROM:+0200
TZOFFSETTO:+0100
TZNAME:CET
DTSTART:20241027T010000
END:STANDARD
BEGIN:DAYLIGHT
TZOFFSETFROM:+0100
TZOFFSETTO:+0200
TZNAME:CEST
DTSTART:20250330T010000
END:DAYLIGHT
BEGIN:STANDARD
TZOFFSETFROM:+0200
TZOFFSETTO:+0100
TZNAME:CET
DTSTART:20251026T010000
END:STANDARD
END:VTIMEZONE
BEGIN:VEVENT
DTSTART;TZID=Europe/Paris:20240902T080000
DTEND;TZID=Europe/Paris:20240906T200000
DTSTAMP:20260419T190606
CREATED:20240705T130737Z
LAST-MODIFIED:20240705T130737Z
UID:10814-1725264000-1725652800@lapratique.org
SUMMARY:Je n'ai pas de jambes\, j'ai des ailes / Cie Tau
DESCRIPTION:
URL:https://lapratique.org/evenement/je-nai-pas-de-jambes-jai-des-ailes-cie-tau-2/
LOCATION:La Pratique\, 1 place Pillain\, Vatan\, 36150
CATEGORIES:Cirque,Résidence de création
ATTACH;FMTTYPE=image/jpeg:https://lapratique.org/wp-content/uploads/2024/06/1250217-scaled.jpg
ORGANIZER;CN="La Pratique Vatan":MAILTO:info.lapratique@gmail.com
END:VEVENT
BEGIN:VEVENT
DTSTART;TZID=Europe/Paris:20240906T190000
DTEND;TZID=Europe/Paris:20240906T200000
DTSTAMP:20260419T190606
CREATED:20240705T130402Z
LAST-MODIFIED:20240705T130402Z
UID:10808-1725649200-1725652800@lapratique.org
SUMMARY:Je n'ai pas de jambes\, j'ai des ailes / Cie Tau
DESCRIPTION:
URL:https://lapratique.org/evenement/je-nai-pas-de-jambes-jai-des-ailes-cie-tau/
LOCATION:La Pratique\, 1 place Pillain\, Vatan\, 36150
CATEGORIES:Cirque,Sortie de résidence
ATTACH;FMTTYPE=image/jpeg:https://lapratique.org/wp-content/uploads/2024/06/1250217-scaled.jpg
ORGANIZER;CN="La Pratique Vatan":MAILTO:info.lapratique@gmail.com
END:VEVENT
BEGIN:VEVENT
DTSTART;TZID=Europe/Paris:20240913T183000
DTEND;TZID=Europe/Paris:20240913T203000
DTSTAMP:20260419T190606
CREATED:20240906T103513Z
LAST-MODIFIED:20240906T103513Z
UID:10983-1726252200-1726259400@lapratique.org
SUMMARY:On avait dit qu’on se touchait pas + Présentation incontournable de la programmation 24-25 d’Equinoxe
DESCRIPTION:Spectacle de cirque + Présentation incontournable de la programmation 24-25 d’Equinoxe\, scène nationale de Châteauroux\n\n« Lorsque leurs corps s’expriment\, s’opère un mélange entre adresse et tendresse. Ils se nouent\, se dénouent\, se jettent\, se propulsent\, roulent\, sautent avec plaisir et pour petits et grands douceur. Ils voyagent dans les possibles de leurs deux corps sans se toucher\, ou presque… » Cirque Compost\n\n\n\nUn pot convivial sera prévu.\n\nPetit·es et Grand·es sont convié·es le vendredi 13 septembre à 18h30 à LA PRATIQUE. Réservation au 06 95 24 61 46
URL:https://lapratique.org/evenement/on-avait-dit-quon-se-touchait-pas-presentation-incontournable-de-la-programmation-24-25-dequinoxe/
LOCATION:La Pratique\, 1 place Pillain\, Vatan\, 36150
CATEGORIES:Cirque
ATTACH;FMTTYPE=image/webp:https://lapratique.org/wp-content/uploads/2024/09/65368e_226d268ecd524eddae844ce305c55c7amv2_d_2304_3456_s_2.webp
ORGANIZER;CN="La Pratique Vatan":MAILTO:info.lapratique@gmail.com
END:VEVENT
BEGIN:VEVENT
DTSTART;TZID=Europe/Paris:20240920T190000
DTEND;TZID=Europe/Paris:20240920T200000
DTSTAMP:20260419T190606
CREATED:20240906T103845Z
LAST-MODIFIED:20240906T103928Z
UID:10985-1726858800-1726862400@lapratique.org
SUMMARY:Françoise - Journée du Matrimoine
DESCRIPTION:!!! ÉVÉNEMENT !!!\nJOURNÉE DU MATRIMOINE\n\n\n\n« Plus que jamais\, il est temps de (re)découvrir Françoise d’Eaubonnne ! Plus nous avançons vers Françoise dans le spectacle\, plus fort résonne un écho troublant avec la période que nous vivons : lutte pour l’égalité\, lutte contre les violences faites aux femmes\, lutte anti-capitaliste\, lutte pour le climat » Cie Noesis\n\n\n\nMise en scène\, chorégraphie\, scénographie et jeu :\nColine et Flora Pilet\nCréation lumière : Audrey Quesnel\nCollaboration artistique : Alexandre Le Petit\, Solenn Louër\, Alexandre Serrano\n\n\n\nUn pot convivial sera prévu.\nVENEZ ASSISTER au spectacle « Françoise » VENDREDI 20 SEPT à 19h00 à LA PRATIQUE. Réservation au 06 95 24 61 46
URL:https://lapratique.org/evenement/francoise/
CATEGORIES:Performance,Théâtre
ATTACH;FMTTYPE=image/png:https://lapratique.org/wp-content/uploads/2024/09/francoise7-1024x584-1.png
END:VEVENT
BEGIN:VEVENT
DTSTART;TZID=Europe/Paris:20240927T190000
DTEND;TZID=Europe/Paris:20240927T200000
DTSTAMP:20260419T190606
CREATED:20240705T131137Z
LAST-MODIFIED:20240705T131137Z
UID:10818-1727463600-1727467200@lapratique.org
SUMMARY:Un homme est mort / Cie Oh ! z'arts etc...
DESCRIPTION:
URL:https://lapratique.org/evenement/un-homme-est-mort-cie-oh-zarts-etc-2/
LOCATION:La Pratique\, 1 place Pillain\, Vatan\, 36150
CATEGORIES:Littérature,Musique,Sortie de résidence
ATTACH;FMTTYPE=image/jpeg:https://lapratique.org/wp-content/uploads/2024/06/credit-Etienne-Davodeau-scaled.jpg
ORGANIZER;CN="La Pratique Vatan":MAILTO:info.lapratique@gmail.com
END:VEVENT
END:VCALENDAR