BEGIN:VCALENDAR
VERSION:2.0
PRODID:-//La Pratique, AFA de l&#039;Indre, Résidanses pluridisciplinaires - ECPv6.15.20//NONSGML v1.0//EN
CALSCALE:GREGORIAN
METHOD:PUBLISH
X-WR-CALNAME:La Pratique, AFA de l&#039;Indre, Résidanses pluridisciplinaires
X-ORIGINAL-URL:https://lapratique.org
X-WR-CALDESC:Évènements pour La Pratique, AFA de l&#039;Indre, Résidanses pluridisciplinaires
REFRESH-INTERVAL;VALUE=DURATION:PT1H
X-Robots-Tag:noindex
X-PUBLISHED-TTL:PT1H
BEGIN:VTIMEZONE
TZID:Europe/Paris
BEGIN:DAYLIGHT
TZOFFSETFROM:+0100
TZOFFSETTO:+0200
TZNAME:CEST
DTSTART:20250330T010000
END:DAYLIGHT
BEGIN:STANDARD
TZOFFSETFROM:+0200
TZOFFSETTO:+0100
TZNAME:CET
DTSTART:20251026T010000
END:STANDARD
BEGIN:DAYLIGHT
TZOFFSETFROM:+0100
TZOFFSETTO:+0200
TZNAME:CEST
DTSTART:20260329T010000
END:DAYLIGHT
BEGIN:STANDARD
TZOFFSETFROM:+0200
TZOFFSETTO:+0100
TZNAME:CET
DTSTART:20261025T010000
END:STANDARD
BEGIN:DAYLIGHT
TZOFFSETFROM:+0100
TZOFFSETTO:+0200
TZNAME:CEST
DTSTART:20270328T010000
END:DAYLIGHT
BEGIN:STANDARD
TZOFFSETFROM:+0200
TZOFFSETTO:+0100
TZNAME:CET
DTSTART:20271031T010000
END:STANDARD
END:VTIMEZONE
BEGIN:VEVENT
DTSTART;TZID=Europe/Paris:20260424T190000
DTEND;TZID=Europe/Paris:20260424T200000
DTSTAMP:20260420T123822
CREATED:20260302T140628Z
LAST-MODIFIED:20260306T133940Z
UID:12169-1777057200-1777060800@lapratique.org
SUMMARY:Vassilissa et la Quête du Feu ׀ Compagnie Tango Unione
DESCRIPTION:RÉSIDENCE DU 20 AU 24 AVRIL 2026 \nPRÉSENTATION PUBLIQUE LE VENDREDI 24 AVRIL À 19H\nEntrée libre – Réservation conseillée : 06 95 24 61 46 – info.lapratique@gmail.com \nVassilissa et la Quête du Feu est un spectacle magique\, drôle et dansé\, où Vassilissa\, une petite héroïne courageuse\, part à l’aventure bien malgré elle dans la forêt glaciale de Baba Yaga\, la sorcière la plus étrange de la forêt. Avec l’aide de sa poupée magique\, d’un loup poète\, d’un chat géant un peu farfelu\, Vassilissa va découvrir que\, parfois\, la vraie magie vient de l’intérieur. \n\nJEUNE PUBLIC • DANSE • À PARTIR DE 4 ANS \n\nDirection et chorégrahie Irene Moraglio • Avec Irene Moraglio\, Patrice Meissirel\, Sandrine Herman\, Hélène Hardouin et Manuel Cedrón • Création musicale Manuel Cedrón • Création lumière Emmanuelle Stäuble • Écriture des textes Pauline Devos • Costumes Nathalie Tomasina \n  \nNote d’intention (extrait) \nL’idée de ce spectacle née de l’envie de susciter l’émerveillement\, chez les grands et les petits\, par la poésie du geste et des mots\, de la danse et du théâtre qui fusionnent avec la musique live pour transporter dans un voyage riche en émotions. \nOn suit l’histoire de Vassilissa réécrite à partir du conte traditionnel russe et nourrie par l’interprétation moderne de Clarissa Pinkola Estés dans « Femmes qui courent avec les loups ». Ses aventures et ses épreuves seront portées par la voix d’Hélène Hardouin\, capable d’incarner les états les plus divers et extrêmes\, d’émouvoir\, faire rire\, rêver\, transporter. À la fois conteuse mystérieuse et incarnation de Baba Yaga\, sorcière effrayante et néanmoins pleine de sagesse\, elle tissera le fil rouge du parcours initiatique de Vassilissa\, à la recherche du feu et de la femme sauvage et intuitive en devenir. Nous cherchons le pouvoir d’évocation de la parole\, des symboles et des personnages\, vecteurs puissants du conte\, avec une scénographie minimale et sans faire usage de projections vidéos. La danse\, interprétée par Irene et Patrice\, en sera le dessin\, sans chercher à être littérale. L’esthétique sera le fruit d’une hybridation des genres\, avec le tango contemporain\, la robe serpentine et le ruban\, agrès particulièrement évocateurs aptes à servir le propos de l’histoire. \nCompagnie Tango Unione \nLa compagnie Tango Unione est née de la rencontre en 2012\, autour du tango argentin\, d’Irene Moraglio\, danseuse et ancienne gymnaste de haut niveau\, et de Patrice Meissirel\, artiste éclectique venant du théâtre de rue\, danseur et chorégraphe. Après avoir vécu à Buenos Aires où ils reçoivent un enseignement précieux et inspirant\, ils participent activement à leur retour en France à un certain essor de la création chorégraphique française de tango argentin.\nEn 2016\, ils remportent le Championnat de France de tango\, dans les catégories tango de scène et improvisation. D’abord enclins à mettre le tango argentin au service d’un univers poétique et absurde proche du conte\, ils n’hésitent pas pour cela à le confronter à d’autres disciplines : théâtre\, cirque et danse contemporaine.\nAu fil des ans et des rencontres (notamment favorisées par les laboratoires qu’ils mettent en place au CND de Pantin\, depuis 2017)\, leur recherche évolue\, visant à débusquer le moteur et l’essence du désir de danser à deux\, de l’enjeu contenu dans le corps de l’autre. Allant puiser dans leur expérience de la scène\, les danseurs de la Compagnie misent sur le plateau leur virtuosité\, leur ouverture aux autres arts et leur joie de créer.
URL:https://lapratique.org/evenement/vassilissa-et-la-quete-du-feu-%d7%80-compagnie-tango-unione/
LOCATION:La Pratique\, 1 place Pillain\, Vatan\, 36150
CATEGORIES:Danse,Musique,Sortie de résidence
ATTACH;FMTTYPE=image/jpeg:https://lapratique.org/wp-content/uploads/2026/02/Vassilissa-et-la-Quete-du-Feu_©-Simon-Houari-scaled.jpg
ORGANIZER;CN="La Pratique Vatan":MAILTO:info.lapratique@gmail.com
END:VEVENT
END:VCALENDAR