BEGIN:VCALENDAR
VERSION:2.0
PRODID:-//La Pratique, AFA de l&#039;Indre, Résidanses pluridisciplinaires - ECPv6.15.20//NONSGML v1.0//EN
CALSCALE:GREGORIAN
METHOD:PUBLISH
X-ORIGINAL-URL:https://lapratique.org
X-WR-CALDESC:Évènements pour La Pratique, AFA de l&#039;Indre, Résidanses pluridisciplinaires
REFRESH-INTERVAL;VALUE=DURATION:PT1H
X-Robots-Tag:noindex
X-PUBLISHED-TTL:PT1H
BEGIN:VTIMEZONE
TZID:Europe/Paris
BEGIN:DAYLIGHT
TZOFFSETFROM:+0100
TZOFFSETTO:+0200
TZNAME:CEST
DTSTART:20240331T010000
END:DAYLIGHT
BEGIN:STANDARD
TZOFFSETFROM:+0200
TZOFFSETTO:+0100
TZNAME:CET
DTSTART:20241027T010000
END:STANDARD
BEGIN:DAYLIGHT
TZOFFSETFROM:+0100
TZOFFSETTO:+0200
TZNAME:CEST
DTSTART:20250330T010000
END:DAYLIGHT
BEGIN:STANDARD
TZOFFSETFROM:+0200
TZOFFSETTO:+0100
TZNAME:CET
DTSTART:20251026T010000
END:STANDARD
BEGIN:DAYLIGHT
TZOFFSETFROM:+0100
TZOFFSETTO:+0200
TZNAME:CEST
DTSTART:20260329T010000
END:DAYLIGHT
BEGIN:STANDARD
TZOFFSETFROM:+0200
TZOFFSETTO:+0100
TZNAME:CET
DTSTART:20261025T010000
END:STANDARD
END:VTIMEZONE
BEGIN:VEVENT
DTSTART;TZID=Europe/Paris:20251107T190000
DTEND;TZID=Europe/Paris:20251107T194500
DTSTAMP:20260420T201227
CREATED:20251010T145751Z
LAST-MODIFIED:20251010T145829Z
UID:11908-1762542000-1762544700@lapratique.org
SUMMARY:Bivouac / Présentation publique
DESCRIPTION:Bivouac s’inscrit dans la continuité de deux années de recherche artistique menées avec Ceci n’est pas une danse (en 2023 et 2024)\, au sein de plusieurs structures partenaires : Chorège CDCN à Falaise\, Mille Plateaux CCN de La Rochelle\, La Métive à Moutier-d’Ahun\, Danse à tous les étages-CDCN Itinérant en Bretagne\, La Pratique AFA de L’Indre à Vatan et le Ballet du Nord CCN à Roubaix. \nDurant ce processus\, nous avons rencontré une cinquantaine de personnes et invité sept d’entre elles à poursuivre l’aventure vers une création. Une nécessité est apparue : ce travail ne pouvait pas se clore sur une seule forme. Les questions soulevées – intimes\, sociales et collectives appelaient une prolongation. \nBivouac cherche à révéler plutôt qu’à signifier. \nNous travaillons à partir des ressources de chacun : ce que l’on sait\, ce que l’on croit savoir\, ce que l’on ignore. Le spectacle se construit autour de l’acceptation et de la mise en lumière de ces zones d’incompétence\, dans une démarche de sincérité et de partage. \nLa pièce se déploie comme une œuvre chorale\, hétérogène\, traversée par la diversité des personnalités. Une bande disparate\, un collectif mouvant. \n\n\nBivouac – création 2026\nConception et réalisation : Carole Perdereau et Fred Hocké\nInterprétation : Morgane Barbotin\, Baptiste Belisaire\, Allison Cressy\, Satya Esquenazi\, Jacques Fonbaustier\,\nNicolas Meterreau\, Agathe Morvan\nMusique : Éric Yvelin \nMentions en cours\nProduction : But not for real\nCoproduction : Danse à tous les étages – CDCN itinérant en Bretagne\nPrêt de studio : Chorège CDCN Falaise Normandie\, La Pratique\, AFA de l’Indre\, Résidanses pluridisciplinaires \nFred Hocké est un créateur scénique aux multiples outils\, spécialisé dans la dramaturgie et la scénographie\, pour le théâtre et la danse. Son travail questionne principalement le théâtre documentaire en mêlant sur scène professionnels et non professionnels. Il poursuit ce travail de recherche par la réalisation de films et d’installations. Il collabore actuellement avec Mohamed El Khatib / Zirlib\, Issam Rachyq-Arad /Compagnie Iwa\, la compagnie ATL\nATL et Carole Perdereau. Il est membre du conseil consultatif de la DRAC Théâtre Nouvelle-Aquitaine depuis 2021. Il est membre du comité de lecture du CDN de Caen et du prix Sony Labou-Tansi. Il donne des cours de dramaturgie à l’université de Caen. \nDanseuse et chorégraphe\, Carole Perdereau développe son travail depuis le début des années 2000. Elle a créé une dizaine de pièces\, plus récemment : Premier Présent (2021) avec Jérôme Andrieu\, Audrey Gaisan et Jonathan Seilman\, Ceci n’est pas une danse (2023)\, projet de création participatif mené en collaboration avec Fred Hocké et Éric Yvelin. En 2024\, elle recrée Objets Monstres (2011) dans le cadre du dispositif Culture et Santé en partenariat avec le Centre de Psychotraumatologie d’Orléans et le Centre Chorégraphique National d’Orléans. Parallèllement comme interprète\, elle a travaillé notamment avec Fabienne Compet\, Pierre Droulers\, Laurent Pichaud\, Sylvain Prunenec\, Loïc Touzé. Dernièrement\, elle a collaboré aux projets 22 et 22 Mixtes de Mickaël Phelippeau. Elle enseigne régulièrement auprès de publics professionnels et amateurs. Elle créé le dispositif\, La source et la faille\, atelier de composition à l’adresse d’artistes pluridisciplinaires. Fin 2024\, elle créé l’association BUT NOT FOR REAL à Nantes.
URL:https://lapratique.org/evenement/bivouac-presentation-publique/
LOCATION:La Pratique\, 1 place Pillain\, Vatan\, 36150
CATEGORIES:Danse,Sortie de résidence
ATTACH;FMTTYPE=image/png:https://lapratique.org/wp-content/uploads/2025/10/Ceci2_Lointain.png
ORGANIZER;CN="La Pratique Vatan":MAILTO:info.lapratique@gmail.com
END:VEVENT
BEGIN:VEVENT
DTSTART;TZID=Europe/Paris:20251114T190000
DTEND;TZID=Europe/Paris:20251114T200000
DTSTAMP:20260420T201227
CREATED:20250718T101528Z
LAST-MODIFIED:20251114T082019Z
UID:11675-1763146800-1763150400@lapratique.org
SUMMARY:Y’a plus de place ! / Présentation publique
DESCRIPTION:Compagnie La Belle Image \nDe la rencontre d’une poignée d’amoureux de fanfares et de musique de rue naît\, en 1996\, La Belle Image. Élevée en plein air à la musique sud-américaine\, elle reconnaît ses maîtres parmi les bandas boliviennes\, colombiennes et équatoriennes\, les percussionnistes caribéens et autres provocateurs d’allégresse. \n  \nNote d’intention – Y’a plus de place ! \nForte de son expérience depuis bientôt 30 ans\, La Belle Image se questionne sur la place des fanfares dans le champ du spectacle vivant\, dans celui des arts de la rue et celui de la musique. La fanfare souffre d’une image péjorative\, porte en elle une connotation vieillotte et surannée dans l’imaginaire collectif. \nPourtant sur le territoire de la région Centre-Val de Loire\, les fanfares sont plus que jamais actives\, déploient une énergie toujours plus grandissante\, créent de la musique et des spectacles qui viennent contrecarrer la doxa les concernant. Chaque représentation de leurs spectacles provoque joie et liesse collective. Ce premier questionnement ouvre une réflexion plus vaste encore : celle de l’individu au sein d’une communauté ou de la société dans son ensemble.
URL:https://lapratique.org/evenement/ya-plus-de-place-presentation-publique/
LOCATION:La Pratique\, 1 place Pillain\, Vatan\, 36150
CATEGORIES:Musique,Sortie de résidence
ATTACH;FMTTYPE=image/jpeg:https://lapratique.org/wp-content/uploads/2025/07/LA-BELLE-IMAGE-2-La-Couverture-scaled.jpg
ORGANIZER;CN="La Pratique Vatan":MAILTO:info.lapratique@gmail.com
END:VEVENT
BEGIN:VEVENT
DTSTART;TZID=Europe/Paris:20251128T190000
DTEND;TZID=Europe/Paris:20251128T200000
DTSTAMP:20260420T201227
CREATED:20250717T155519Z
LAST-MODIFIED:20250904T123850Z
UID:11680-1764356400-1764360000@lapratique.org
SUMMARY:La voix d’un homme / Présentation publique
DESCRIPTION:Note d’intention de l’artiste Jimmy Dussiel \n« What’s Going On » est un album que j’ai découvert et écouté tout au long de ma jeunesse par le biais de ma mère\, et c’est tout naturellement qu’il a eu sa place dans ma playlist personnelle. A force de l’écouter j’ai commencé à entendre certaines subtilités musicales qui donnent une autre dimension à l’oeuvre. Qui amène à se demander où est ce que l’auteur a pu trouver l’inspiration. \nMon interprétation des paroles a également changé\, leur sens est devenu plus lisible\, jusqu’à avoir un impact différent dans mon esprit. Peut-être que mon histoire et le climat sociétal dans lequel nous évoluons en ont modifié ma vision\, me poussant à me questionner toujours plus sur cet album. \nSe sentir touché par la voix d’un seul homme\, par ces paroles et par sa musique pousse parfois à vouloir en savoir plus sur son processus de création. J’ai donc entrepris plus de recherche sur l’homme\, l’artiste\, sa vie et sur la période de création de cet album. Pourquoi ces mots ? Quel sens pour l’époque ? Et pourquoi cela me parle tant encore aujourd’hui ? \nDes textes puissants qui nous décrivent un environnement hostile\, les revers de la société\, les différentes tentations ou addictions qui nous entrainent vers des vices toujours plus destructeurs. Un album qui nous interroge sur la situation de ces hommes et de ces femmes tout en tentant de nous faire comprendre ce système qu’ils subissent. Tout cela ne se passe pas dans notre pays\, pas non plus à notre époque mais malgré tout je ne peux m’empêcher de me demander pourquoi cela me touche autant. \nEn ce qui concerne la production musicale\, rien n’a été laissé au hasard. Un vrai travail minutieux lui donne toute sa valeur et lui permet de transmettre de puissantes émotions. Mais comment son cerveau à fonctionner lors de cette étape pour donner tant de détails et de puissance dans sa musique ? Comment en arrive-t-on à ce résultat ? Comment la seule voix d’un homme peut avoir un impact si fort ? Comment cette voix peut-elle avoir tant de puissance ? \n54 ans après sa sortie\, cet album a toujours sa place et prendre le temps de danser dessus est pour moi le simple prolongement de ma démarche artistique.
URL:https://lapratique.org/evenement/la-voix-dun-homme-presentation-publique/
LOCATION:La Pratique\, 1 place Pillain\, Vatan\, 36150
CATEGORIES:Danse,Sortie de résidence
ATTACH;FMTTYPE=image/png:https://lapratique.org/wp-content/uploads/2025/07/Cie-Soulfull.png
ORGANIZER;CN="La Pratique Vatan":MAILTO:info.lapratique@gmail.com
END:VEVENT
END:VCALENDAR