BEGIN:VCALENDAR
VERSION:2.0
PRODID:-//La Pratique, AFA de l&#039;Indre, Résidanses pluridisciplinaires - ECPv6.15.20//NONSGML v1.0//EN
CALSCALE:GREGORIAN
METHOD:PUBLISH
X-WR-CALNAME:La Pratique, AFA de l&#039;Indre, Résidanses pluridisciplinaires
X-ORIGINAL-URL:https://lapratique.org
X-WR-CALDESC:Évènements pour La Pratique, AFA de l&#039;Indre, Résidanses pluridisciplinaires
REFRESH-INTERVAL;VALUE=DURATION:PT1H
X-Robots-Tag:noindex
X-PUBLISHED-TTL:PT1H
BEGIN:VTIMEZONE
TZID:Europe/Paris
BEGIN:DAYLIGHT
TZOFFSETFROM:+0100
TZOFFSETTO:+0200
TZNAME:CEST
DTSTART:20240331T010000
END:DAYLIGHT
BEGIN:STANDARD
TZOFFSETFROM:+0200
TZOFFSETTO:+0100
TZNAME:CET
DTSTART:20241027T010000
END:STANDARD
BEGIN:DAYLIGHT
TZOFFSETFROM:+0100
TZOFFSETTO:+0200
TZNAME:CEST
DTSTART:20250330T010000
END:DAYLIGHT
BEGIN:STANDARD
TZOFFSETFROM:+0200
TZOFFSETTO:+0100
TZNAME:CET
DTSTART:20251026T010000
END:STANDARD
BEGIN:DAYLIGHT
TZOFFSETFROM:+0100
TZOFFSETTO:+0200
TZNAME:CEST
DTSTART:20260329T010000
END:DAYLIGHT
BEGIN:STANDARD
TZOFFSETFROM:+0200
TZOFFSETTO:+0100
TZNAME:CET
DTSTART:20261025T010000
END:STANDARD
END:VTIMEZONE
BEGIN:VEVENT
DTSTART;TZID=Europe/Paris:20251010T190000
DTEND;TZID=Europe/Paris:20251010T203000
DTSTAMP:20260420T213051
CREATED:20250717T135012Z
LAST-MODIFIED:20251010T144055Z
UID:11605-1760122800-1760128200@lapratique.org
SUMMARY:Coeur à Corps / Présentation publique
DESCRIPTION:A 40 ans\, elle rêve toujours\, comme depuis ses 15 ans de devenir actrice. En attendant\, elle est prostituée. Aujourd’hui\, elle a décidé de jouer sa dernière carte : participer à l’émission « le curseur du pire ». Passer une semaine à partager son quotidien avec les internautes qui pourront réagir et interagir sur les réseaux. Mais rien ne se passe comme prévu. Daphné oscille entre états d’âmes et révolte. En poussant le curseur\, elle gomme les frontières et élargit le champ de la perception : il ne s’agit peut-être que de femmes\, d’hommes traversés par les intempéries de leur vie et prisonniers d’un système de pouvoirs et sa perversité. Elle aimerait pourtant qu’on entende dans sa voix un peu cassée\, un peu usée\, l’amour\, la solitude\, le bonheur perdu et toujours espéré. Les réactions des internautes resteront principalement lapidaires\, jugeantes\, stéréotypées\, donc suffocantes.
URL:https://lapratique.org/evenement/coeur-a-corps-presentation-publique/
LOCATION:La Pratique\, 1 place Pillain\, Vatan\, 36150
CATEGORIES:Danse,Sortie de résidence,Théâtre
ATTACH;FMTTYPE=image/jpeg:https://lapratique.org/wp-content/uploads/2025/10/Coeur-a-corps.jpg
ORGANIZER;CN="La Pratique Vatan":MAILTO:info.lapratique@gmail.com
END:VEVENT
BEGIN:VEVENT
DTSTART;TZID=Europe/Paris:20251024T190000
DTEND;TZID=Europe/Paris:20251024T203000
DTSTAMP:20260420T213052
CREATED:20250718T094409Z
LAST-MODIFIED:20250904T123058Z
UID:11665-1761332400-1761337800@lapratique.org
SUMMARY:Bienvenue à Colomeri ! / Présentation publique
DESCRIPTION:Tout commence par un hommage à l’absurde : une réunion ubuesque des administrés du village imaginaire de Colomeri\, en Italie. Le maire et les villageois ferraillent pour trouver un moyen de rendre leur commune attrayante aux touristes. « Il nous faut un plan B. – C’était le troisième plan B en un mois\, monsieur le Maire. On est tous un peu à court à présent ». Les idées les plus loufoques sont lancées\, car le bourg n’a rien de singulier : aucun fait historique marquant\, aucun monument à visiter. Soudain c’est l’étincelle\, l’idée de génie : pourquoi ne pas créer « le premier écomusée de la crise européenne » ? \nL’effervescence gagne les villageois et chacun apporte son concours. Car il faut vendre le concept\, transformer la réalité en spectacle\, passer du morne quotidien au reality-show : « Il nous faut des clichés\, des stéréotypes. Le plus possible. Nous choisirons les meilleurs d’entre eux et nous nous y conformerons ». Internet sert de banque de données très précieuse pour en dresser la liste. Bientôt\, c’est l’ouverture. Le dépliant annonce « une communauté pittoresque et typiquement méditerranéenne qui n’a jamais connu l’ADSL ». \nAu-delà de la pantalonnade\, Hécate Vergopoulos dresse le portrait d’une population solidaire\, qui cultive une sorte d’allant bienveillant\, sans pour autant abandonner les prises de becs dialectiques. Le trésor de Colomeri est là. Un patrimoine immatériel qui résiste aux assauts de la crise. Une forme de résistance à l’anonymat macroéconomique :« Nous vivons dans un présent décadent qui nous voue à une interminable dissolution ». À Colomeri\, la parade a été trouvée.
URL:https://lapratique.org/evenement/bienvenue-a-colomeri-presentation-publique/
LOCATION:La Pratique\, 1 place Pillain\, Vatan\, 36150
CATEGORIES:Sortie de résidence,Théâtre
ATTACH;FMTTYPE=image/jpeg:https://lapratique.org/wp-content/uploads/2025/07/Cie-AOUR-scaled.jpg
ORGANIZER;CN="La Pratique Vatan":MAILTO:info.lapratique@gmail.com
END:VEVENT
BEGIN:VEVENT
DTSTART;TZID=Europe/Paris:20251030T190000
DTEND;TZID=Europe/Paris:20251030T203000
DTSTAMP:20260420T213052
CREATED:20250718T094753Z
LAST-MODIFIED:20251027T112956Z
UID:11670-1761850800-1761856200@lapratique.org
SUMMARY:Les CoUlysses\, la légende de l’homme aux 1000 tours / Présentation publique
DESCRIPTION:Les CoUlysses\, la légende de l’homme aux 1000 tours nous raconte la vie d’une troupe\, aujourd’hui\, pendant le montage\, la préparation et la représentation d’une Odyssée d’Ulysse. Ils manipulent les éléments de décors et naviguent au milieu des accessoires\, matériels\, cordages et autres machineries\, nécessaires au bon déroulement du spectacle. L’espace se construit et se modulent jusqu’à l’assemblage du décor pour la représentation de l’Odyssée et au moment où celle-ci commence\, eux restent à l’arrière.
URL:https://lapratique.org/evenement/les-coulysses-presentation-publique/
LOCATION:La Pratique\, 1 place Pillain\, Vatan\, 36150
CATEGORIES:Cirque,Sortie de résidence
ATTACH;FMTTYPE=image/webp:https://lapratique.org/wp-content/uploads/2025/07/R_coUlysses_resiPhotos_C_18avril-6.webp
ORGANIZER;CN="La Pratique Vatan":MAILTO:info.lapratique@gmail.com
END:VEVENT
END:VCALENDAR