BEGIN:VCALENDAR
VERSION:2.0
PRODID:-//La Pratique, AFA de l&#039;Indre, Résidanses pluridisciplinaires - ECPv6.15.20//NONSGML v1.0//EN
CALSCALE:GREGORIAN
METHOD:PUBLISH
X-WR-CALNAME:La Pratique, AFA de l&#039;Indre, Résidanses pluridisciplinaires
X-ORIGINAL-URL:https://lapratique.org
X-WR-CALDESC:Évènements pour La Pratique, AFA de l&#039;Indre, Résidanses pluridisciplinaires
REFRESH-INTERVAL;VALUE=DURATION:PT1H
X-Robots-Tag:noindex
X-PUBLISHED-TTL:PT1H
BEGIN:VTIMEZONE
TZID:Europe/Paris
BEGIN:DAYLIGHT
TZOFFSETFROM:+0100
TZOFFSETTO:+0200
TZNAME:CEST
DTSTART:20240331T010000
END:DAYLIGHT
BEGIN:STANDARD
TZOFFSETFROM:+0200
TZOFFSETTO:+0100
TZNAME:CET
DTSTART:20241027T010000
END:STANDARD
BEGIN:DAYLIGHT
TZOFFSETFROM:+0100
TZOFFSETTO:+0200
TZNAME:CEST
DTSTART:20250330T010000
END:DAYLIGHT
BEGIN:STANDARD
TZOFFSETFROM:+0200
TZOFFSETTO:+0100
TZNAME:CET
DTSTART:20251026T010000
END:STANDARD
BEGIN:DAYLIGHT
TZOFFSETFROM:+0100
TZOFFSETTO:+0200
TZNAME:CEST
DTSTART:20260329T010000
END:DAYLIGHT
BEGIN:STANDARD
TZOFFSETFROM:+0200
TZOFFSETTO:+0100
TZNAME:CET
DTSTART:20261025T010000
END:STANDARD
END:VTIMEZONE
BEGIN:VEVENT
DTSTART;TZID=Europe/Paris:20250920T180000
DTEND;TZID=Europe/Paris:20250920T193000
DTSTAMP:20260419T210733
CREATED:20250903T090025Z
LAST-MODIFIED:20250903T142740Z
UID:11729-1758391200-1758396600@lapratique.org
SUMMARY:Au commencement était la chute
DESCRIPTION:Dans le cadre du dispositif « Équinoxe en campagne »\nSpectacle de Jules Houdin et Guilhèm Charrier \nAu commencement était la chute est un joyeux pied de nez à nos ratés\, un éloge intarissable de l’art de se réinventer pour avancer. \nTomber des nues\, tomber amoureux·se\, tomber malade\, tomber à pic… Qu’on le veuille ou non\, la chute est inhérente à nos vies\, de nos premiers pas d’enfant hésitant aux ruptures émotionnelles qui font tomber de haut. Tomber\, se relever\, avancer\, ainsi grandit-on. Jules Houdin et Guilhem Charrier se sont emparés de cette notion de chute\, aux sens propre et figuré\, pour filer la métaphore entre leur parcours d’acrobates et leur parcours de vie. Qui de mieux\, en effet\, pour nous en parler que des artistes de cirque\, qui la pratiquent au quotidien. Les deux complices tordent le cou à l’idée selon laquelle la chute est un échec. \nSPECTACLE SUIVI DE LA PRÉSENTATION DE SAISON D’ÉQUINOXE – SCÈNE NATIONALE DE CHÂTEAUROUX
URL:https://lapratique.org/evenement/au-commencement-etait-la-chute/
LOCATION:La Pratique\, 1 place Pillain\, Vatan\, 36150
CATEGORIES:Cirque,Partenariats
ATTACH;FMTTYPE=image/jpeg:https://lapratique.org/wp-content/uploads/2025/07/au-commencement-etait-la-chute.jpg
ORGANIZER;CN="La Pratique Vatan":MAILTO:info.lapratique@gmail.com
END:VEVENT
END:VCALENDAR