BEGIN:VCALENDAR
VERSION:2.0
PRODID:-//La Pratique, AFA de l&#039;Indre, Résidanses pluridisciplinaires - ECPv6.15.20//NONSGML v1.0//EN
CALSCALE:GREGORIAN
METHOD:PUBLISH
X-ORIGINAL-URL:https://lapratique.org
X-WR-CALDESC:Évènements pour La Pratique, AFA de l&#039;Indre, Résidanses pluridisciplinaires
REFRESH-INTERVAL;VALUE=DURATION:PT1H
X-Robots-Tag:noindex
X-PUBLISHED-TTL:PT1H
BEGIN:VTIMEZONE
TZID:Europe/Paris
BEGIN:DAYLIGHT
TZOFFSETFROM:+0100
TZOFFSETTO:+0200
TZNAME:CEST
DTSTART:20250330T010000
END:DAYLIGHT
BEGIN:STANDARD
TZOFFSETFROM:+0200
TZOFFSETTO:+0100
TZNAME:CET
DTSTART:20251026T010000
END:STANDARD
BEGIN:DAYLIGHT
TZOFFSETFROM:+0100
TZOFFSETTO:+0200
TZNAME:CEST
DTSTART:20260329T010000
END:DAYLIGHT
BEGIN:STANDARD
TZOFFSETFROM:+0200
TZOFFSETTO:+0100
TZNAME:CET
DTSTART:20261025T010000
END:STANDARD
BEGIN:DAYLIGHT
TZOFFSETFROM:+0100
TZOFFSETTO:+0200
TZNAME:CEST
DTSTART:20270328T010000
END:DAYLIGHT
BEGIN:STANDARD
TZOFFSETFROM:+0200
TZOFFSETTO:+0100
TZNAME:CET
DTSTART:20271031T010000
END:STANDARD
END:VTIMEZONE
BEGIN:VEVENT
DTSTART;TZID=Europe/Paris:20260731T190000
DTEND;TZID=Europe/Paris:20260731T200000
DTSTAMP:20260420T170159
CREATED:20260302T142109Z
LAST-MODIFIED:20260302T143155Z
UID:12194-1785524400-1785528000@lapratique.org
SUMMARY:Avec ou sans concession ׀ Compagnie Douce et Meute
DESCRIPTION:RÉSIDENCE DU 20 AU 31 JUILLET 2026 \nPRÉSENTATION PUBLIQUE LE VENDREDI 31 JUILLET À 19H\nEntrée libre – Réservation conseillée : 06 95 24 61 46 – info.lapratique@gmail.com \nTrois performeur·euses se lancent un défi de taille : sortir le deuil des funérariums et des cimetières pour l’emmener prendre l’air. Dans une quête effrénée du « deuil idéal »\, les personnages s’interrogent avec une ironie mordante : quelle est la playlist parfaite ? Le cercueil le plus adapté ? La larme la plus crédible ou le fou rire le plus salvateur ? En étirant la notion de concession jusqu’à l’absurde\, le spectacle oscille entre l’intime et le commun. Une déambulation sur le fil du rasoir pour ouvrir\, enfin\, un espace de négociation entre les vivants. \n\nTHÉÂTRE  \n\n  \nNote d’intention – Tonalité (extrait) \nIl ne s’agira pas tant d’écrire une grande histoire générale que de plonger dans le coeur de petits récits intimes et anecdotiques. On se demandera : Comment faire pour pleurer sur commande le jour de l’enterrement ? Comment se mettre d’accord sur le choix des fleurs : plastiques ou naturelles ? éternelles ou biodégradables ? Est ce qu’il est possible de transformer une partie du terrain de pétanque en concession funéraire ? Peut-on performer collectivement les dernières volontés ? \nParce que le ridicule ne tue pas\, nous aimons l’utiliser pour rendre palpable la fragilité et la beauté de nos émotions. Avec sincérité\, poésie et auto-dérision\, circuler dans ce thème effrayant de notre propre disparition ou de celles de nos proches. \nCompagnie Douce et Meute \nDouce et Meute est une compagnie originaire de la région Auvergne Rhône-Alpes\, née d’une passion commune pour le théâtre en dehors des murs. Imprégnée des paysages urbains et ruraux\, elle tisse un lien direct entre le public et l’espace public. Par le biais de la rue\, des façades\, des corps\, des voix et des idées\, Douce et Meute se plonge dans les humeurs des villes et de la campagne\, à la rencontre de ceux et celles qui y vivent. \nElle aime bousculer les frontières entre les disciplines\, en proposant des oeuvres qui mêlent marionnettes\, improvisation\, danse\, musique et poésie. Cette alchimie artistique transforme chaque représentation en un moment unique de partage et d’échange. Sur scène comme dans la rue\, la compagnie privilégie des formes créatives\, où l’intime et le politique se croisent et se répondent. Les fictions qu’elle propose sont souvent un miroir de la réalité\, parfois inversé\, mais toujours porteur de sens\, d’émotion et de questionnements. \nDans une démarche d’éducation populaire\, Douce et Meute aime expérimenter et faire émerger des dialogues\, des réflexions et des transformations sociales. Pour elle\, le théâtre est avant tout un espace de débat\, de confrontation et de transformation collective. C’est un terrain d’expérimentation où l’art devient un outil de libération et de création. Que ce soit sur le pavé de la ville ou dans un champ ouvert\, Douce et Meute invite son public à goûter à un théâtre vivant\, participatif et poétique\, qui invite à penser autrement le monde qui nous entoure.
URL:https://lapratique.org/evenement/avec-ou-sans-concession-%d7%80-compagnie-douce-et-meute/
LOCATION:La Pratique\, 1 place Pillain\, Vatan\, 36150
CATEGORIES:Sortie de résidence,Théâtre
ATTACH;FMTTYPE=image/jpeg:https://lapratique.org/wp-content/uploads/2026/02/Avec-ou-sans-concession_©-Cie-Douce-et-Meute.jpg
ORGANIZER;CN="La Pratique Vatan":MAILTO:info.lapratique@gmail.com
END:VEVENT
END:VCALENDAR