BEGIN:VCALENDAR
VERSION:2.0
PRODID:-//La Pratique, AFA de l&#039;Indre, Résidanses pluridisciplinaires - ECPv6.15.20//NONSGML v1.0//EN
CALSCALE:GREGORIAN
METHOD:PUBLISH
X-WR-CALNAME:La Pratique, AFA de l&#039;Indre, Résidanses pluridisciplinaires
X-ORIGINAL-URL:https://lapratique.org
X-WR-CALDESC:Évènements pour La Pratique, AFA de l&#039;Indre, Résidanses pluridisciplinaires
REFRESH-INTERVAL;VALUE=DURATION:PT1H
X-Robots-Tag:noindex
X-PUBLISHED-TTL:PT1H
BEGIN:VTIMEZONE
TZID:Europe/Paris
BEGIN:DAYLIGHT
TZOFFSETFROM:+0100
TZOFFSETTO:+0200
TZNAME:CEST
DTSTART:20250330T010000
END:DAYLIGHT
BEGIN:STANDARD
TZOFFSETFROM:+0200
TZOFFSETTO:+0100
TZNAME:CET
DTSTART:20251026T010000
END:STANDARD
BEGIN:DAYLIGHT
TZOFFSETFROM:+0100
TZOFFSETTO:+0200
TZNAME:CEST
DTSTART:20260329T010000
END:DAYLIGHT
BEGIN:STANDARD
TZOFFSETFROM:+0200
TZOFFSETTO:+0100
TZNAME:CET
DTSTART:20261025T010000
END:STANDARD
BEGIN:DAYLIGHT
TZOFFSETFROM:+0100
TZOFFSETTO:+0200
TZNAME:CEST
DTSTART:20270328T010000
END:DAYLIGHT
BEGIN:STANDARD
TZOFFSETFROM:+0200
TZOFFSETTO:+0100
TZNAME:CET
DTSTART:20271031T010000
END:STANDARD
END:VTIMEZONE
BEGIN:VEVENT
DTSTART;TZID=Europe/Paris:20260507T190000
DTEND;TZID=Europe/Paris:20260507T200000
DTSTAMP:20260420T134506
CREATED:20260302T140900Z
LAST-MODIFIED:20260302T140929Z
UID:12173-1778180400-1778184000@lapratique.org
SUMMARY:Pura Vida ou L'Homme Carnaval ׀ Compagnie La Sensible
DESCRIPTION:RÉSIDENCE DU 4 AU 8 MAI 2026 \nPRÉSENTATION PUBLIQUE LE JEUDI 7 MAI À 19H\nEntrée libre – Réservation conseillée : 06 95 24 61 46 – info.lapratique@gmail.com \nTout commence par une odeur sucrée : celle d’un marchand de rue transportant son monde sur son dos. Mais à la nuit tombée\, la métamorphose opère : le forain devient Homme Carnaval. De son barda jaillit un univers fantastique où les objets du quotidien s’animent et les marionnettes prennent vie. Qui est ce personnage généreux et subversif ? Entre fête populaire et acte politique\, il nous invite à la création d’une mascotte éphémère destinée aux flammes. Une exploration haute en couleur pour réveiller l’imaginaire collectif. \n\nCLOWN  \n\n  \nNote d’intention (extrait) \nMon clown Pirulo me colle à la peau. C’est un chemin de vie. Mon clown suit ma vie\, ou bien est ce l’inverse ? Depuis 25 ans\, je sculpte mon clown. Mon premier spectacle\, Circo Pirulo\, qui tourne encore\, revisite en miniature\, et à la manière de Calder\, un cirque traditionnel. CabarettO\, mon deuxième spectacle\, est né de la rencontre avec Samuel Tailliez\, musicien forain et Jérome Bouvet\, metteur en piste et accompagnateur de rêves.  \nEt ce troisième spectacle\, alors ? Un peu de moi\, un peu de clown\, un peu de maturité ? Diable\, j’ai 50 ans ! Accompagné par Jérome Bouvet\, je continue le travail de recherche et d’approfondissement de mon clown. Je vais aussi revenir chez moi\, à Buenos Aires\, pour travailler avec Alfredo Iriarte\, facteur de masques.  \nDepuis 6 ans\, je vis à la campagne. J’ai un grand verger que j’ai taillé\, nettoyé\, débroussaillé. Et des pommes que j’ai mangées\, cueillies\, ramassées\, stockées\, nettoyées\, pelées\, broyées\, pressées… Depuis 6 ans\, je fais mon cidre artisanal\, avec les conseils de mon maître\, Pascal Potaire\, qui a partagé avec moi ce riche univers. Pura Vida\, l’homme Carnaval\, c’est la recherche de mon homme carnaval\, celui qui est subversif et politique. Mais aussi festif\, pluriel\, haut en couleur\, généreux ou encore collectif.  \nD’où vient ce personnage ? Que vient-il faire avec tout son barda ? Que vient-il raconter aux gens du peuple ? Un bonhomme\, un marchand de rue\, un clown peut-il devenir un carnaval à lui tout seul ?  \nJe propose la création d’un seul en scène mettant mes expériences de vie les plus marquantes dans le même panier à pommes… Ou la fascination d’un monde où pommes\, clown\, marionnettes et carnaval ne font qu’un. Ce spectacle est le dernier élément qui forme un triptyque avec les spectacles Circo Pirulo et CabarettO. Dans le premier\, la mort est présente de façon ludique et dans le second\, elle accompagne deux vagabonds\, itinérants. Ce nouveau spectacle est un hymne à la vie.
URL:https://lapratique.org/evenement/pura-vida-ou-lhomme-carnaval-%d7%80-compagnie-la-sensible/
LOCATION:La Pratique\, 1 place Pillain\, Vatan\, 36150
CATEGORIES:Clown,Sortie de résidence
ATTACH;FMTTYPE=image/jpeg:https://lapratique.org/wp-content/uploads/2026/02/Pura-Vida_©Cie-La-Sensible-scaled.jpg
ORGANIZER;CN="La Pratique Vatan":MAILTO:info.lapratique@gmail.com
END:VEVENT
END:VCALENDAR