BEGIN:VCALENDAR
VERSION:2.0
PRODID:-//La Pratique, AFA de l&#039;Indre, Résidanses pluridisciplinaires - ECPv6.15.20//NONSGML v1.0//EN
CALSCALE:GREGORIAN
METHOD:PUBLISH
X-ORIGINAL-URL:https://lapratique.org
X-WR-CALDESC:Évènements pour La Pratique, AFA de l&#039;Indre, Résidanses pluridisciplinaires
REFRESH-INTERVAL;VALUE=DURATION:PT1H
X-Robots-Tag:noindex
X-PUBLISHED-TTL:PT1H
BEGIN:VTIMEZONE
TZID:Europe/Paris
BEGIN:DAYLIGHT
TZOFFSETFROM:+0100
TZOFFSETTO:+0200
TZNAME:CEST
DTSTART:20230326T010000
END:DAYLIGHT
BEGIN:STANDARD
TZOFFSETFROM:+0200
TZOFFSETTO:+0100
TZNAME:CET
DTSTART:20231029T010000
END:STANDARD
BEGIN:DAYLIGHT
TZOFFSETFROM:+0100
TZOFFSETTO:+0200
TZNAME:CEST
DTSTART:20240331T010000
END:DAYLIGHT
BEGIN:STANDARD
TZOFFSETFROM:+0200
TZOFFSETTO:+0100
TZNAME:CET
DTSTART:20241027T010000
END:STANDARD
BEGIN:DAYLIGHT
TZOFFSETFROM:+0100
TZOFFSETTO:+0200
TZNAME:CEST
DTSTART:20250330T010000
END:DAYLIGHT
BEGIN:STANDARD
TZOFFSETFROM:+0200
TZOFFSETTO:+0100
TZNAME:CET
DTSTART:20251026T010000
END:STANDARD
END:VTIMEZONE
BEGIN:VEVENT
DTSTART;TZID=Europe/Paris:20240615T103000
DTEND;TZID=Europe/Paris:20240615T113000
DTSTAMP:20260419T172927
CREATED:20240517T131358Z
LAST-MODIFIED:20240517T131511Z
UID:10401-1718447400-1718451000@lapratique.org
SUMMARY:LECTURE / CIE HOMO-SAPIENS DECATIS - 15/06
DESCRIPTION:
URL:https://lapratique.org/evenement/lectures-cie-homo-sapiens-decatis/
LOCATION:La Pratique\, 1 place Pillain\, Vatan\, 36150
CATEGORIES:Littérature
ATTACH;FMTTYPE=image/jpeg:https://lapratique.org/wp-content/uploads/2024/04/Lectures1.jpg
ORGANIZER;CN="La Pratique Vatan":MAILTO:info.lapratique@gmail.com
END:VEVENT
BEGIN:VEVENT
DTSTART;TZID=Europe/Paris:20240615T123000
DTEND;TZID=Europe/Paris:20240615T133000
DTSTAMP:20260419T172927
CREATED:20240517T134932Z
LAST-MODIFIED:20240517T134932Z
UID:10427-1718454600-1718458200@lapratique.org
SUMMARY:CHORALE VA T’ENCHANTER
DESCRIPTION:
URL:https://lapratique.org/evenement/chorale-va-tenchanter/
LOCATION:La Pratique\, 1 place Pillain\, Vatan\, 36150
CATEGORIES:Musique
ATTACH;FMTTYPE=image/png:https://lapratique.org/wp-content/uploads/2024/04/Capture-decran-2024-04-24-a-09.29.45.png
ORGANIZER;CN="La Pratique Vatan":MAILTO:info.lapratique@gmail.com
END:VEVENT
BEGIN:VEVENT
DTSTART;TZID=Europe/Paris:20240615T163000
DTEND;TZID=Europe/Paris:20240615T173000
DTSTAMP:20260419T172927
CREATED:20240407T154639Z
LAST-MODIFIED:20240426T132634Z
UID:8996-1718469000-1718472600@lapratique.org
SUMMARY:SHAKE
DESCRIPTION:
URL:https://lapratique.org/evenement/shake/
LOCATION:La Pratique\, 1 place Pillain\, Vatan\, 36150
CATEGORIES:Danse,Musique
ATTACH;FMTTYPE=image/jpeg:https://lapratique.org/wp-content/uploads/2024/04/Noemie-Lacote-COLLECTIF-A-R-SHOOTING-2022-91-scaled-e1714058950682.jpg
ORGANIZER;CN="La Pratique Vatan":MAILTO:info.lapratique@gmail.com
END:VEVENT
BEGIN:VEVENT
DTSTART;TZID=Europe/Paris:20240615T163000
DTEND;TZID=Europe/Paris:20240615T173000
DTSTAMP:20260419T172927
CREATED:20240517T141020Z
LAST-MODIFIED:20240517T141020Z
UID:10436-1718469000-1718472600@lapratique.org
SUMMARY:L’ART DE RÉINVESTIR / COMPAGNIE ENTITÉ
DESCRIPTION:
URL:https://lapratique.org/evenement/lart-de-reinvestir-compagnie-entite/
LOCATION:La Pratique\, 1 place Pillain\, Vatan\, 36150
CATEGORIES:Danse
ATTACH;FMTTYPE=image/jpeg:https://lapratique.org/wp-content/uploads/2024/04/Simon-Dimouro2-scaled.jpg
ORGANIZER;CN="La Pratique Vatan":MAILTO:info.lapratique@gmail.com
END:VEVENT
BEGIN:VEVENT
DTSTART;TZID=Europe/Paris:20240615T180000
DTEND;TZID=Europe/Paris:20240615T190000
DTSTAMP:20260419T172927
CREATED:20240407T101555Z
LAST-MODIFIED:20240426T153349Z
UID:8889-1718474400-1718478000@lapratique.org
SUMMARY:De l'une à l'hôte
DESCRIPTION:
URL:https://lapratique.org/evenement/delune-e-lautre/
LOCATION:La Pratique\, 1 place Pillain\, Vatan\, 36150
CATEGORIES:Cirque,Théâtre
ATTACH;FMTTYPE=image/jpeg:https://lapratique.org/wp-content/uploads/2024/04/De-lune-a-lhote-@-m.cavalca-13-copie-scaled-e1714136769623.jpg
ORGANIZER;CN="La Pratique Vatan":MAILTO:info.lapratique@gmail.com
END:VEVENT
BEGIN:VEVENT
DTSTART;TZID=Europe/Paris:20240615T213000
DTEND;TZID=Europe/Paris:20240615T233000
DTSTAMP:20260419T172927
CREATED:20240517T144327Z
LAST-MODIFIED:20240517T152516Z
UID:10451-1718487000-1718494200@lapratique.org
SUMMARY:BAL / DJ SET
DESCRIPTION:
URL:https://lapratique.org/evenement/bal-dj-set/
LOCATION:La Pratique\, 1 place Pillain\, Vatan\, 36150
CATEGORIES:Danse,Musique
ATTACH;FMTTYPE=image/jpeg:https://lapratique.org/wp-content/uploads/2024/04/dj_drunken_master_festival_musikair_montargis_2019-2-1.jpg
ORGANIZER;CN="La Pratique Vatan":MAILTO:info.lapratique@gmail.com
END:VEVENT
END:VCALENDAR